BEGIN:VCALENDAR
VERSION:2.0
PRODID:icalendar-ruby
CALSCALE:GREGORIAN
X-WR-TIMEZONE:Europe/Helsinki
BEGIN:VTIMEZONE
TZID:Europe/Helsinki
BEGIN:DAYLIGHT
DTSTART:20260329T040000
TZOFFSETFROM:+0200
TZOFFSETTO:+0300
RRULE:FREQ=YEARLY;BYDAY=-1SU;BYMONTH=3
TZNAME:EEST
END:DAYLIGHT
BEGIN:STANDARD
DTSTART:20261025T030000
TZOFFSETFROM:+0300
TZOFFSETTO:+0200
RRULE:FREQ=YEARLY;BYDAY=-1SU;BYMONTH=10
TZNAME:EET
END:STANDARD
END:VTIMEZONE
BEGIN:VEVENT
DTSTAMP:20260422T195818
UID:scst.myclub.fi-7946032
DTSTART;TZID=Europe/Helsinki:20241026T133000
DTEND;TZID=Europe/Helsinki:20241026T133000
DESCRIPTION:Kaudelle 2024-2025 Ounasvaaran kausikortit Santa Claus Ski Team
 in jäsenille ovat seuraavat:  1. Ounasvaara Basic -kausilippu: 225\,00 eu
 roa 2. Super - 4 keskusta kausilippu: 275\,00 euroa (Ounasvaara - Luosto -
  Olos - Pallas)\nHinnat ovat voimassa Santa Claus Ski Teamin jäsenille 31
 .1.2025 asti.\nKausikorttien ostaminen: Osallistu tähän "tapahtumaan" ja
  valitse itsellesi sopiva lipputyyppi edellä mainituista kahdesta vaihtoe
 hdosta. Mikäli valitset Super - 4 keskusta -kausilipun\, valitse myös Su
 per - 4 keskusta kausilippu-lisämaksu 50 €. Ilmoittautumisen vahvistami
 sen yhteydessä sinulle muodostuu lasku valitusta kausikortista\, ja lasku
  lähetetään sähköpostiisi. Laskun lähettäjänä Santa Claus Ski Tea
 m ry\, eräpäivä 14 pv:n kuluttua ilmoittautumisesta.\nSeura toimittaa n
 imilistan maksetuista kausilipuista Ounasvaaralle ensimmäisen kerran 9.11
 .2024 ja sen jälkeen noin muutaman viikon välein 31.1.2025 saakka. Ilmoi
 ttautuminen ei riitä\, vaan kausikortin saanti edellyttää maksusuoritus
 ta. Huomioi myös\, ettei maksutieto välity välttämättä samanaikaises
 ti seuralle\, vaan voi vaatia parikin pankkipäivää. Kausikortti noudeta
 an Ounasvaaran lipunmyynnistä.  Huom! Hinta ei sisällä Keycard -korttia
 .\nHuom! Ei koske Tanja Poutiainen Sporttikerhon\, Elian Lehdon Vauhtiryhm
 än\, Race 10-12 eikä Race 14-16 -ryhmien jäseniä\, koska heidän kausi
 maksuun sisältyy Ounasvaaran kausilippu.\n\nhttps://scst.myclub.fi/flow/e
 vents/7946032
LOCATION:Ounasvaara\, Taunontie 14\, 96600 Rovaniemi\, Suomi
SEQUENCE:0
SUMMARY:Santa Claus Ski Team ry: OUNASVAARAN KAUSIKORTTI 2024-2025
URL;VALUE=URI:https://scst.myclub.fi/flow/events/7946032
END:VEVENT
END:VCALENDAR
